Workbook

Sheet INSTRUCTIVO MATRIZ
C12: No. | D12: Proceso | E12: Riesgo | F12: Alineación Contexto Estratégico | G12: Parte interesada | H12: Clasificación | I12: Causas | J12: Riesgo Residual | M12: OPCIÓN DE TRATAMIENTO DEL RIESGO | N12: Control | S12: Indicador | T12: PERIODOS DE MONITOREO AL MAPA DE RIESGOS (CUATRIMESTRAL)
T13: 1er Periodo (Enero, febrero, marzo, abril) | V13: 2do Periodo (Mayo, junio, julio, agosto) | X13: 3er Periodo (Septiembre, octubre, noviembre, diciembre)
J14: Probabilidad | K14: Impacto | L14: Nivel | N14: Tipo de control | O14: Actividad de control | P14: Responsable | Q14: periodicidad | R14: Soporte | T14: Seguimiento y Autocontrol del proceso | U14: Materialización del riesgo (SI/NO) | V14: Seguimiento y Autocontrol del proceso | W14: Materialización del riesgo (SI/NO) | X14: Seguimiento y Autocontrol del proceso | Y14: Materialización del riesgo (SI/NO)
C15: 1 | D15: Pendiente realizar la lista de los procesos de la empresa según la plataforma estrategica de la entidad. Para poder insertar aquí la lista desplegable. | F15: Pendiente investigar sobre la matriz DOFA de la empresa, si esta considerado dentro de esta. | G15: Se inserta lista desplegable según las partes interesadas. | H15: Se inserta lista desplegable según la clasificación. | J15: se aplica formato condicionado | K15: se aplica formato condicionado | L15: Se aplica formato condicionado según mapa de calor | M15: Se inserta lista desplegable según las opciones de tratamiento del riesgo establecidas por protocolo. | N15: Se inserta lista desplegable según conceptos establecidos en procesos | P15: Pendiente definir si se define por procesos o como se va a establecer | Q15: Se inserta lista desplegable según protocolo | U15: Se inserta lista desplegable | W15: Se inserta lista desplegable | Y15: Se inserta lista desplegable
C16: 2
C17: 3
C18: 4
C19: 5
C20: 6
C21: 7
C22: 8
C23: 9
C24: 10
C25: 11
C26: 12
C27: 13
... C52: 38

Sheet LISTA DESP. - MATRIZ CALOR
B5: PARTE INTERESADA | D5: CLASIFICACIÓN DEL RIESGO | F5: OPCIÓN DE MANEJO DEL RIESGO | H5: TIPO DE CONTROL | N5: MATRIZ DE RIESGOS
B6: CIUDADANO | D6: ESTRATÉGICO | F6: ASUMIR EL RIESGO | H6: PREVENTIVO | I6: Se refiere a la preparación con la que se busca evitar, de manera anticipada, un riesgo | N6: PROBABILIDAD | T6: MAPA DE CALOR
B7: SERVIDORES PÚBLICOS | D7: GERENCIALES | F7: REDUCIR EL RIESGO | H7: DEDUCTIVO | I7: El método deductivo consiste en extraer una conclusión con base en una premisa o a una serie de proposiciones que se asumen como verdaderas. | N7: IMPROBABLE | O7: POSIBLE | P7: OCASIONAL | Q7: MODERADO | R7: CONSTANTE | T7: CALOR | U7: NIVEL DEL RIESGO
B8: ENTIDADES PÚBLICAS | D8: OPERATIVOS | F8: EVITAR EL RIESGO | H8: CORRECTIVO | I8: es una acción tomada para eliminar las causas de una no conformidad detectada u otra situación indeseable. | N8: 2 | O8: 4 | P8: 6 | Q8: 8 | R8: 10 | T8: 2 a 8 | U8: RIESGO ACEPTABLE
B9: PROVEEDORES Y CONTRATISTAS | D9: FINANCIEROS | F9: COMPARTIR EL RIESGO | K9: IMPACTO | L9: INSIGNIFICANTE | M9: 1 | N9: =$M9*N$8 -> 2 | O9: =$M9*O$8 -> 4 | P9: =$M9*P$8 -> 6 | Q9: =$M9*Q$8 -> 8 | R9: =$M9*R$8 -> 10 | T9: 10 a 18 | U9: RIESGO TOLERABLE
B10: ENTES DE CONTROL | D10: TECNOLÓGICOS | F10: TRANSFERIR EL RIESGO | L10: MENOR | M10: 2 | N10: =$M10*N$8 -> 4 | O10: =$M10*O$8 -> 8 | P10: =$M10*P$8 -> 12 | Q10: =$M10*Q$8 -> 16 | R10: =$M10*R$8 -> 20 | T10: 20 a 24 | U10: RIESGO ALTO
B11: ENTES DE REGULACIÓN | D11: CUMPLIMIENTO | F11: PREVENIR EL RIESGO | L11: MODERADO | M11: 3 | N11: =$M11*N$8 -> 6 | O11: =$M11*O$8 -> 12 | P11: =$M11*P$8 -> 18 | Q11: =$M11*Q$8 -> 24 | R11: =$M11*R$8 -> 30 | T11: 30 a 50 | U11: RIESGO EXTREMO
B12: ENTES DE CERTIFICACIÓN | D12: IMAGEN O REPUTACIONAL | L12: MAYOR | M12: 4 | N12: =$M12*N$8 -> 8 | O12: =$M12*O$8 -> 16 | P12: =$M12*P$8 -> 24 | Q12: =$M12*Q$8 -> 32 | R12: =$M12*R$8 -> 40
B13: ORGANISMOS MULTILATERALES | D13: CORRUPCIÓN | L13: CATASTROFICO | M13: 5 | N13: =$M13*N$8 -> 10 | O13: =$M13*O$8 -> 20 | P13: =$M13*P$8 -> 30 | Q13: =$M13*Q$8 -> 40 | R13: =$M13*R$8 -> 50
B14: LA ACADEMIA
B15: TODAS LAS PARTES INTERESADAS
B18: PERIODICIDAD | D18: MATERIALIZACIÓN DEL RIESGO
B19: TRIMESTRAL | D19: NO
B20: CUATRIMESTRAL | D20: SI
B21: SEMESTRAL
A24: PROCESOS Y OBJETIVOS
A25: GESTIÓN JURÍDICA Estudio y análisis a los conceptos y lineamientos normativos, con el fin de que las acciones de la entidad se ajusten a la normatividad vigente, se propenda por la prevención del daño jurídico, se desarrollen los procesos judiciales y se efectúe la defensa de los intereses patrimoniales y judiciales de la entidad.
A26: GESTIÓN DE RECURSOS HUMANOS Desarrollar políticas, planes y programas que contribuyan al desarrollo integral de los funcionarios de la entidad en su ciclo de vida laboral, mediante acciones y actividades que generen bienestar, calidad de vida y seguridad; promoviendo la consecución de los objetivos institucionales.
A27: GESTIÓN DE ADMINISTRACIÓN DE BIENES Y SERVICIOS Gestionar el Plan Anual de Adquisiciones que garantice todas las necesidades de compras de la entidad, administrar los inventarios y bienes patrimoniales de la entidad, garantizando su funcionamiento y protección; además de mantener en condiciones óptimas el parque automotor del Instituto.
A28: GESTION
A29: GESTION
A30: GESTION
A31: GESTION
A32: GESTION

Sheet MATRIZ DE RIESGOS DE CORRUPCIÓN
Q6: NIVEL DEL RIESGO
G7: MATRIZ Y PLAN DE TRATAMIENTO DE RIESGOS DE GESTIÓN VIGENCIA 2025 | R7: ZONA DE RIESGO ACEPTABLE
R8: ZONA DE RIESGO TOLERABLE
R9: ZONA DE RIESGO ALTO
R10: ZONA DE RIESGO EXTREMO
C13: No. | D13: PROCESO | E13: RIESGO | F13: PARTE INTERESADA | G13: CLASIFICACIÓN | H13: CAUSAS | I13: RIESGO RESIDUAL | L13: OPCIÓN DE TRATAMIENTO DEL RIESGO | M13: CONTROL | R13: INDICADOR
S14: 2do PERIODO (Mayo, junio, julio, agosto)
I15: Impacto | J15: Probabilidad | K15: Nivel del Riesgo | M15: TIPO DE CONTROL | N15: ACTIVIDAD DE CONTROL | O15: RESPONSABLE | P15: PERIODICIDAD | Q15: SOPORTE | S15: SEGUIMIENTO Y AUTOCONTROL DEL PROCESO | T15: MATERIALIZACIÓN DEL RIESGO (SI/NO)
C16: 1 | D16: GESTIÓN JURÍDICA Estudio y análisis a los conceptos y lineamientos normativos, con el fin de que las acciones de la entidad se ajusten a la normatividad vigente, se propenda por la prevención del daño jurídico, se desarrollen los procesos judiciales y se efectúe la defensa de los intereses patrimoniales y judiciales de la entidad. | E16: Contratación sin el cumplimiento de los requisitos contractuales. Descripcion: Adquisición de bienes y realización de procesos contractuales por fuera de los procedimientos normativos contractuales para el tipo de Institución Pública | F16: ENTES DE CONTROL | G16: CORRUPCIÓN | H16: Direccionamiento en la contratación estatal en beneficio propio o de terceros, inadecuado procedimiento para la compra y aceptación de dádivas para el beneficio selectivo. intereses privados. | I16: MAYOR | J16: OCASIONAL | K16: =IFERROR(INDEX('LISTA DESP. - MATRIZ CALOR'!$N$9:$R$13,MATCH('MATRIZ DE RIESGOS DE CORRUPCIÓN'!I16,'LISTA DESP. - MATRIZ CALOR'!$L$9:$L$13,0),MATCH('MATRIZ DE RIESGOS DE CORRUPCIÓN'!J16,'LISTA DESP. - MATRIZ CALOR'!$N$7:$R$7,0)),"") -> 24 | L16: REDUCIR EL RIESGO | M16: PREVENTIVO | N16: SEGUIMIENTO, REVISIÓN Y CONTROL DE ESTUDIOS PREVIOS Y PLIEGOS DE CONDICIONES A TRAVÉS DEL COMITÉ DE CONTRATACIÓN. | O16: Líder de Programa - Unidad Jurídica - Comité de contratación | P16: CUATRIMESTRAL | Q16: PROCESOS CONTRACTUALES Y PLAN DE COMPRAS | R16: Procesos de adquisisicion de bienes(procesos celebrados) y servicios evaluados / Procesos Celebrados *100 | S16: Se da aplicación a la normatividad vigente - Ley 80 de 1993 - Estatuto de la Contratación Estatal y demás normas concordantes, para adelantar los procesos de contratación, a través de la selección objetiva, de acuerdo con las diferentes de modalidades | T16: NO
C17: 2 | D17: GESTIÓN JURÍDICA Estudio y análisis a los conceptos y lineamientos normativos, con el fin de que las acciones de la entidad se ajusten a la normatividad vigente, se propenda por la prevención del daño jurídico, se desarrollen los procesos judiciales y se efectúe la defensa de los intereses patrimoniales y judiciales de la entidad. | E17: Actos administrativos encaminados en beneficio propio o terceros, defraudando la moralidad publica. | F17: TODAS LAS PARTES INTERESADAS | G17: CORRUPCIÓN | H17: Desconocimiento de la etica pública, y las implicaciones legales de los funcionarios públicos. | I17: MAYOR | J17: POSIBLE | K17: =IFERROR(INDEX('LISTA DESP. - MATRIZ CALOR'!$N$9:$R$13,MATCH('MATRIZ DE RIESGOS DE CORRUPCIÓN'!I17,'LISTA DESP. - MATRIZ CALOR'!$L$9:$L$13,0),MATCH('MATRIZ DE RIESGOS DE CORRUPCIÓN'!J17,'LISTA DESP. - MATRIZ CALOR'!$N$7:$R$7,0)),"") -> 16 | L17: REDUCIR EL RIESGO | M17: PREVENTIVO | N17: SENSIBILIZACIÓN Y SOCIALIZACIONES SOBRE EL MANUAL DE INTEGRIDAD Y ETICA PÚBLICA | O17: Líder de Programa - Unidad Jurídica - Gestión Humana | P17: CUATRIMESTRAL | Q17: Correo electrónico / Piezas de Culturización | R17: Numero de socializaciones programadas/ socializaciones ejecutadas. | S17: Se realiza exigencia de culminación de curso de "integridad, transparencia y lucha contra la corrupción" a los contratistas del INVAMA. | T17: NO
C18: 3 | D18: GESTIÓN DE ADMINISTRACIÓN DE BIENES Y SERVICIOS Gestionar el Plan Anual de Adquisiciones que garantice todas las necesidades de compras de la entidad, administrar los inventarios y bienes patrimoniales de la entidad, garantizando su funcionamiento y protección; además de mantener en condiciones óptimas el parque automotor del Instituto. | E18: Compras sin el cumplimiento de los requisitos contractuales. Descripción: Adquisición de bienes fuera de los procedimientos normativos contractuales para el tipo de Institución Pública | F18: PROVEEDORES Y CONTRATISTAS | G18: CORRUPCIÓN | H18: Falta de conocimiento en la aplicación de las normas de contratación estatal, inadecuado procedimiento para la compra, aceptación de cumplidos de intereses privados. Sin el real cumplimiento de caracteristicas tecnicas exigidas | I18: MAYOR | J18: POSIBLE | K18: =IFERROR(INDEX('LISTA DESP. - MATRIZ CALOR'!$N$9:$R$13,MATCH('MATRIZ DE RIESGOS DE CORRUPCIÓN'!I18,'LISTA DESP. - MATRIZ CALOR'!$L$9:$L$13,0),MATCH('MATRIZ DE RIESGOS DE CORRUPCIÓN'!J18,'LISTA DESP. - MATRIZ CALOR'!$N$7:$R$7,0)),"") -> 16 | L18: REDUCIR EL RIESGO | M18: PREVENTIVO | N18: Garantizar el cumplimiento del bien o servicio con los requisitos exigidos a través de la verificacion de la documentacion y fichas tecnicas. | O18: Profesional Universitario Compras y Suministros, Líder Unidad Jurídica | P18: CUATRIMESTRAL | Q18: Informe de Evaluacion que contien la revisión de los documentos de la fase precontractual. | R18: Análisis de viabilidad técnica, jurídica y financiera de los estudios previos para compra | S18: Se realizan los estudios previos conforme al manual de contratación de la entidad, se viabilizan en comité de contración y se ajustan en todas sus componentes técnicos, jurídicos y financieros. - en etapa de de evaluación se designa comité evaluador de acuerdo a los perfiles de los integrantes. | T18: NO
C19: 4 | D19: GESTIÓN DE RECURSOS HUMANOS Desarrollar políticas, planes y programas que contribuyan al desarrollo integral de los funcionarios de la entidad en su ciclo de vida laboral, mediante acciones y actividades que generen bienestar, calidad de vida y seguridad; promoviendo la consecución de los objetivos institucionales. | E19: Obviar los documentos y/o requisitos para favorecer a un tercero en su vinculación por prestación de servicios o vinculación directa con la empresa. | F19: SERVIDORES PÚBLICOS | G19: CORRUPCIÓN | H19: Omitir voluntariamente el respectivo chequeo de los documentos que acreditan el lleno de requisitos para ocupar el cargo. | I19: MODERADO | J19: POSIBLE | K19: =IFERROR(INDEX('LISTA DESP. - MATRIZ CALOR'!$N$9:$R$13,MATCH('MATRIZ DE RIESGOS DE CORRUPCIÓN'!I19,'LISTA DESP. - MATRIZ CALOR'!$L$9:$L$13,0),MATCH('MATRIZ DE RIESGOS DE CORRUPCIÓN'!J19,'LISTA DESP. - MATRIZ CALOR'!$N$7:$R$7,0)),"") -> 12 | L19: REDUCIR EL RIESGO | M19: PREVENTIVO | N19: VALIDACIÓN DEL LLENO DE REQUISITOS Y LA DOCUMENTACIÓN ENTREGADA. CON LA RESPECTIVA LISTA DE CHEQUEO. | O19: Líder de Programa - Unidad Jurídica - Gestión Humana | P19: CUATRIMESTRAL | Q19: Lista de chequeo. | R19: Numero de vinculaciones por las diferentes formas/ verificación de la lista de chequeo documentación | S19: Validación y Verificación de Requisitos para la Vinculación Laboral En los meses de junio y agosto, se realizó la vinculacion de dos funcionarios en la Entidad, donde se validó y verificó el cumplimiento de los requisitos establecidos para la ocupación del cargo. Este procedimiento garantiza que los procesos de vinculación se realicen de manera transparente, asegurando que se cumpla con los criterios exigidos por la entidad. Proceso de Revisión y Verificación: Se realizó una revisión exhaustiva de cada documento presentado. Se verificó el cumplimiento total de los requisitos según los criterios establecidos para la posición. Se implementaron controles de doble validación para minimizar riesgos de corrupción y garantizar imparcialidad en el proceso. | T19: NO
C20: 5 | D20: GESTION FINANCIERA Planificación, ejecución y control de los recursos financieros de la entidad, garantizando su sostenibilidad y el cumplimiento de las normas presupuestales y contables. Se busca optimizar el uso de los recursos públicos, prevenir riesgos fiscales y asegurar la transparencia en la administración financiera. | E20: Uso inadecuado de los recursos públicos que puede generar déficit fiscal, incumplimiento de obligaciones financieras, endeudamiento insostenible o desajustes presupuestales que afecten la estabilidad financiera de la entidad | F20: ENTES DE CONTROL | G20: FINANCIEROS | H20: • Uso indebido de los recursos financieros para fines no autorizados en beneficio propio o de terceros, | I20: MODERADO | J20: OCASIONAL | K20: =IFERROR(INDEX('LISTA DESP. - MATRIZ CALOR'!$N$9:$R$13,MATCH('MATRIZ DE RIESGOS DE CORRUPCIÓN'!I20,'LISTA DESP. - MATRIZ CALOR'!$L$9:$L$13,0),MATCH('MATRIZ DE RIESGOS DE CORRUPCIÓN'!J20,'LISTA DESP. - MATRIZ CALOR'!$N$7:$R$7,0)),"") -> 18 | L20: PREVENIR EL RIESGO | M20: PREVENTIVO | N20: • Revisión y Seguimiento de la Ejecución Presupuestal y los Estados Financieros Presentados ante la Junta Directiva Mensualmente. | O20: Lider programa - Unidad financiera | P20: CUATRIMESTRAL | Q20: EJECUCION PRESUPUESTAL Y ESTADOS FINANCIEROS | R20: # de Informes Financieros Presentados a la Junta /12 (100%) | S20: No se materializó el riesgo de corrupción, toda vez que las ejecuciones presupuestales al corte agosto de 2025, evidencian superátiv presupuestal (ingresos en mayor cuantía que los compromisos presupuestales). Los recaudos, muestran que, conservando las tendencias se obtendrá el objetivo planeado. Las ejecuciones, se cargan trimestralmente en la aplicativo de la Contraloría General de la República (CHIP), las cuales pueden ser consultadas por cualquier ciudadano. | T20: NO

Sheet MAPA DE CALOR 
F3: MATRIZ DE RIESGOS
F4: PROBABILIDAD | L4: MAPA DE CALOR
F5: IMPROBABLE | G5: POSIBLE | H5: OCASIONAL | I5: MODERADO | J5: CONSTANTE | L5: CALOR | M5: NIVEL DEL RIESGO
F6: 2 | G6: 4 | H6: 6 | I6: 8 | J6: 10 | L6: 2 a 8 | M6: RIESGO ACEPTABLE
C7: IMPACTO | D7: INSIGNIFICANTE | E7: 1 | F7: =$M7*F$8 -> 2 | G7: =$M7*G$8 -> 4 | H7: =$M7*H$8 -> 6 | I7: =$M7*I$8 -> 8 | J7: =$M7*J$8 -> 10 | L7: 10 a 18 | M7: RIESGO TOLERABLE
D8: MENOR | E8: 2 | F8: =$M8*F$8 -> 4 | G8: =$M8*G$8 -> 8 | H8: =$M8*H$8 -> 12 | I8: =$M8*I$8 -> 16 | J8: =$M8*J$8 -> 20 | L8: 20 a 24 | M8: RIESGO ALTO
D9: MODERADO | E9: 3 | F9: =$M9*F$8 -> 6 | G9: =$M9*G$8 -> 12 | H9: =$M9*H$8 -> 18 | I9: =$M9*I$8 -> 24 | J9: =$M9*J$8 -> 30 | L9: 30 a 50 | M9: RIESGO EXTREMO
D10: MAYOR | E10: 4 | F10: =$M10*F$8 -> 8 | G10: =$M10*G$8 -> 16 | H10: =$M10*H$8 -> 24 | I10: =$M10*I$8 -> 32 | J10: =$M10*J$8 -> 40
D11: CATASTROFICO | E11: 5 | F11: =$M11*F$8 -> 10 | G11: =$M11*G$8 -> 20 | H11: =$M11*H$8 -> 30 | I11: =$M11*I$8 -> 40 | J11: =$M11*J$8 -> 50

Sheet MAPA DE RIESGOS PROCESOS
A1: PROCESO | B1: ACTIVO | C1: RIESGO | D1: DESCRIPCIÓN | E1: Acción u Omisión | F1: Uso del Poder | G1: Desviar la gestión de lo público | H1: Beneficio Privado | I1: AMENAZA (Sólo para Riesgos de Seguridad Digital) | J1: TIPO | K1: CAUSA (Todos excepto los de Seguridad Digital) / VULNERABILIDAD (Sólo para Riesgos de Seguridad Digital) | L1: CONSECUENCIA | M1: PROBABILIDAD | N1: IMPACTO | O1: RIESGO RESIDUAL | P1: TRATAMIENTO | Q1: ACTIVIDAD DE CONTROL | R1: SOPORTE (Evidencia) | S1: RESPONSABLE | T1: FECHA DE TERMINACIÓN | U1: INDICADOR De CUMPLIMIENTO (Eficacia) y de IMPACTO (Efectividad) | V1: SEGUMIENTO 2025 CUATRIIMESTRE II (MAYO-JUNIO-JULIO-AGOSTO)
A3: ALUMBRADO PUBLICO | B3: INFRAESTRUCTURA | C3: Prestación del servicio por fuera del tiempo establecido | D3: Posibilidad de no prestar un servicio dentro de las políticas de calidad establecidas | E3: X | J3: Operativo | K3: Debilidad en el suministro oportuno de recursos (inventarios, vehículos, recurso humano) Debilidad en el cumplimiento de la aplicación del procedimiento Debilidad en entrenamiento y reentrenamiento | L3: Deterioro de la imagen e insatisfacción del cliente | O3: Alto | P3: Compartir el riesgo | Q3: Seguimiento diario de labores asignadas | R3: Geolumina | S3: Líder Programa Unidad Tecnica/ Lider Proyecto Alumbrado Público
A4: ALUMBRADO PUBLICO | B4: INFRAESTRUCTURA | C4: Daños a Terceros | D4: Posibilidad de afectar a personas o bienes con la infraestructura de la red de Alumbrado Público | E4: X | J4: Operativo | K4: Caida de elementos como postes o luminarias Afectación de redes con los vehículos de la entidad Robo de elementos del alumbrado público (tapas) Mala instalación eléctrica | L4: Daño a personas o bienes | O4: Alto | P4: Reducir el Riesgo | Q4: Capacitación. Verificación estado de infraestructura. Activación de pólizas de responsabilidad. | R4: Registro | S4: Líder Programa Unidad Tecnica / Líder Proyecto Alumbrado Público
A5: ALUMBRADO PUBLICO | B5: INFRAESTRUCTURA | C5: Daño a la infraestructura de alumbrado público | D5: Posibilidad de que personas ajenas a la entidad dañen o roben la infraestructura | E5: X | J5: Operativo | K5: La Infraestructura por funcionalidad es exterior y sometida a este tipo de riesgo | L5: No prestación del servicio Daño económico a la entidad Malestar de la comunidad | O5: Alto | P5: Aceptar el Riesgo | Q5: Verificación estado de infraestructura. | R5: Registro | S5: Líder Programa Unidad Tecnica / Líder Proyecto Alumbrado Público
A6: ALUMBRADO PUBLICO | B6: VEHICULOS | C6: Logística ineficiente para la prestación del servicio | D6: Posibilidad de no contar con camionetas o carros canastas así como material eléctrico para la prestación del servicio | E6: X | J6: Operativo | K6: Falta de planeación Incumplimiento a la programación establecida insufieciencia de recursos económicos | L6: Afectación de la prestación del servicio Malestar de la comunidad Deterioro de la imagen | O6: Extremo | P6: Reducir el Riesgo | Q6: Seguimiento a los procesos de contratación y adquisición de productos y servicios asociados. | R6: Contratación | S6: Profesional Universitario Compras y Suministros | U6: Se hace seguimiento a los indicadores tanto de materiales como al parque automotor para la ejecución y operac ión del alumbrado público.
A7: ALUMBRADO PUBLICO | B7: INFRAESTRUCTURA | C7: Terminación de la vida útil de la infraestructura de alumbrado público | D7: Posibilidad que la infraestructura falle o deje de funcionar | E7: X | J7: Operativo | K7: Materiales con deterioro | L7: Afectación de la prestación del servicio Malestar de la comunidad Deterioro de la imagen | O7: Alto | P7: Aceptar el Riesgo | Q7: Plan de mantenimiento de alumbrado publico. Atención de solicitudes de la comunidad | R7: Geolumina | S7: Líder Programa Unidad Tecnica/ Lider Proyecto Alumbrado Público
A8: ALUMBRADO PUBLICO | B8: INFRAESTRUCTURA | C8: No ejecución | D8: Posibilidad de no ejecución del alumbrado navideño | E8: X | F8: X | J8: Operativo | K8: Debilidad en la planeación de las actividades a realizar No existencia de cofinanciación | L8: Deterioro de la imagen | O8: Alto | P8: Reducir el Riesgo | Q8: Asegurar presupuesto | R8: Presupuesto | S8: Líder Programa Unidad Tecnica/ Lider Proyecto Alumbrado Público
A9: ATENCION AL CIUDADANO | C9: Usuarios inconformes con los servicios que presta la entidad | D9: Usuarios insatisfechos, no se sienten conformes con las soluciones que se les brinda. | E9: X | J9: Operativo | K9: * Insatisfacción con los servicios que la entidad presta *Insatisfacción con los tiempos de respuesta | L9: *Perdida de credibilidad Institutcional *publicidad Institucional Negativa ante otros usuarios | O9: Moderado | P9: Reducir el Riesgo | Q9: Generar espacios de acercamiento con la comunidad (Invama Llega a tu Barrio) | R9: Formatos de asistencia *Evidencia Fotografica | S9: Profesional Universitario - Atención al ciudadano | U9: * Numero de personas citadas/Numero de Personas que asisten a la Reunión (Eficacia 5%) *Numero de solictudes recibidas en cada reunión/Numero de Respuesta dadas en cada reunión. (Efectividad 100%) | V9: Fortalecer la relación con la ciudadanía mediante jornadas presenciales en los barrios, donde se socializan proyectos, se atienden inquietudes y se promueve la participación ciudadana.
A10: ATENCION AL CIUDADANO | B10: Redes, Servicio Web | C10: Comunicar de manera incorrecta e inoportuna los proyectos emprendidos por la empresa | D10: Informar y comunicar los políticas, acciones y avances de los proyectos que emprende la Entidad de manera veraz y oportuna, con el fin de garantizar la transparencia de los procesos y la toma de decisiones, para mantener una constante interacción con los clientes internos y externos de la Entidad | E10: X | J10: Imagen/Reputación | K10: *Desconocimiento de los procesos que maneja la entidad *Falta de colaboración de los directores de área, al no mantener informado al comunicador. | L10: *Dilación a la hora de transmitir la información. *desconicimiento de la comunidad *comunicación no acertiva *a falta de visibilizar los procesos, se pondrá en duda la gestión que realiza la empresa. | O10: Moderado | P10: Reducir el Riesgo | Q10: *Buscar fuente Fidedignas *Emitir información veraz y oportuna | R10: *Mantener alimentadas los diferentes canadales de comunicación (redes, pagina web) | S10: Profesional Universitario -comunicaciones | U10: *Mantener información actualizada por los canales de comunicación de la entidad, con el fin de que el usuario pueda estar informado | V10: En INVAMA reconocemos la importancia de comunicar de manera clara, oportuna y veraz los proyectos que emprendemos, entendiendo que una información incompleta o tardía puede convertirse en un riesgo para nuestra gestión y para la confianza de la ciudadanía. Durante este segundo cuatrimestre, reforzamos nuestras acciones de comunicación manteniendo actualizados y activos nuestros diferentes canales, como las redes sociales y la página web institucional. Estos espacios se consolidan como escenarios estratégicos para informar, visibilizar y acercar cada una de las obras y procesos que desarrollamos en beneficio de Manizales. De esta forma, garantizamos transparencia, fortalecemos el vínculo con la comunidad y cumplimos con nuestro propósito de dar a conocer, de manera permanente, el progreso que impulsamos desde la entidad. Fuente de verificación: Redes sociales como Instagram, Facebook, Canal de Youtube, y Página Web con actualización constante.
A11: ATENCION AL CIUDADANO | C11: Incumplimiento en los tiempos de respuesta a solicitudes ingresadas por los usuarios | D11: Difucultades internas para dar respuesta en los tiempos en las diferentes dependencias de la institución. | E11: X | J11: Cumplimiento | K11: *Desconocimiento de la normatividad relacionada con los tiempos de respuesta. *Omisión del funcionario de informar al usuario cuando deba disponer de mayor tiempo para la respuesta. | L11: *Perdida de credibilidad Institutcional *Sanción a la entidad por parte de las entidades de control *Proceso disciplinario a funcionario responsable | O11: Alto | P11: Reducir el Riesgo | Q11: Hacer seguimiento a las solicitudes ingresadas y a los tiempos de respuesta en los tiempos establecidos | R11: Infomres de PQRSDF | S11: Profesional Universitario - Atención al ciudadano | U11: Oportunidad de respuesta | V11: Registro y monitoreo permanente de todas las solicitudes ingresadas al sistema. Verificación semanal del cumplimiento de los plazos de respuesta. Generación de alertas tempranas cuando se identifique riesgo de incumplimiento. Retroalimentación a las dependencias responsables para fortalecer los procesos de respuesta.
A12: GESTIÓN DE LA INFRAESTRUCTURA | B12: ADMINISTRACIÓN DE BIENES Y SERVICIOS | C12: Insuficiencia de bienes necesarios para el funcionamiento administrativo y operativo de la Entidad | D12: Falta de recursos materiales para las labores administrativas y operativas del INVAMA | E12: X | J12: Operativo | K12: Debilidad en la proyección de los insumos requeridos para el buen funcionamiento institucional, retraso en los procesos contractuales para la adquisición de los bienes, presupuesto insuficiente | L12: Adquisición a destiempos de los bienes requeridos para el buen funcionamiento, retraso en la eficiencia administrativa y operativa, incumplimiento de la misión institucional. | O12: Extremo | P12: Reducir el Riesgo | Q12: Utilizar herramientas de proyecciones de consumo y proyecciones de demanda | R12: Relación de los bienes a comprar | S12: Profesional Universitario Compras y Suministros
A13: GESTIÓN DE LA INFRAESTRUCTURA | B13: ADMINISTRACIÓN DE BIENES Y SERVICIOS | C13: Formulación inadecuada de las características técnicas de los bienes necesarios para el funcionamiento institucional | D13: Definición inadecuada de las condiciones técnicas en la formulación para la adquisición de los bienes necesarios para el funcionamiento institucional | E13: X | H13: X | J13: Operativo | K13: Adquisición de bienes que insatisfacen las necesidades de los usuarios, planteamiento inadecuado de las características técnicas necesarias para el buen desempeño de labores institucionales | L13: Retraso en los procesos administrativos y operativos, incumplimiento de la misión institucional, pérdidas económicas por adquisición de productos no acordes a las necesidades | O13: Alto | P13: Reducir el Riesgo | Q13: Aplicar estudio real de las necesidades | R13: Estudios de condiciones técnicas | S13: Profesional Universitario Compras y Suministros, Líderes de Unidad
A14: GESTIÓN DE LA INFRAESTRUCTURA | B14: ADMINISTRACIÓN DE BIENES Y SERVICIOS | C14: Insuficiencia de stock de materiales propios para el desarrollo administrativo y operativo de la Entidad | D14: Stock por debajo de los límites de los mínimos de los bienes para el cumplimiento de la misión institucional | E14: X | J14: Operativo | K14: Debilidad en la proyección de los cálculos de consumo de materiales y bienes para las labores administrativas y operativas, falta de controles en el seguimiento de los stock de materiales | L14: Retraso en los procesos administrativos y operativos, incumplimiento de la misión institucional, pérdidas económicas por incumplimiento de servicios de la misión institucional | O14: Extremo | P14: Reducir el Riesgo | Q14: Formular los stock de inventarios | R14: Parametrización de stock | S14: Profesional Universitario Compras y Suministros
A15: GESTIÓN DE LA INFRAESTRUCTURA | B15: ADMINISTRACIÓN DE BIENES Y SERVICIOS | C15: Pérdida de los bienes patrimoniales | D15: Sustracción de los bienes patrimoniales que se encuentran en custodia | E15: X | G15: X | J15: Financiero | K15: Falta de control en el manejo de los inventarios, ausencia de sentido de pertenencia y de empoderamiento como responsable de los bienes asignados | L15: Pérdidas económicas por necesidad de reposición de bienes necesarios para la correcta operación institucional, erogaciones económicas en detrimento patrimonial | O15: Moderado | P15: Compartir el riesgo | Q15: Verificar periódicamente la existencia de los bienes | R15: Reporte de la existencia física de los elementos | S15: Profesional Universitario Compras y Suministros, funcionarios a cargo de bienes
A16: GESTIÓN FINANCIERA | C16: Inadecuada proyección del presupuesto de la entidad | D16: Sobreestimación presupuestal de ingresos Sobreestimación presupuestal del gasto | E16: X | G16: X | J16: Financiero | K16: Falta de planeación presupuestal | L16: Deficit presupuestal | M16: BAJA | N16: BAJO | O16: Alto | P16: Reducir el Riesgo | Q16: Evaluar las necesidades internas y externas de la entidad antes de la proyeción del presupuesto | R16: Solicitud y recopilación de la información | S16: Lider Unidad Financiera y Administrativa | T16: 46022 | U16: La ejecución presupuestal de ingresos (recaudos) sea superior a los compromisos presupuestales y pagos, evitando recurrir a créditos de tesorería. | V16: Se presentó la ejecución de gastos de manera mensual en las sesiones de Junta Directiva, las cuales reposan en las diferentes actas de este órgano colegiado.
A17: GESTIÓN FINANCIERA | C17: Incumplimiento del reporte de información exogena | D17: Inexactitud de la información de terceros para información exogena | E17: X | I17: Sanciones pecuniarias | J17: Financiero | K17: Debilidades del Software financiero Falta de revisión en los formatos establecidos por la DIAN | L17: Sanciones, disciplinarias, fiscales y economicas. | M17: BAJA | N17: BAJO | O17: Alto | P17: Reducir el Riesgo | Q17: Revisar la información antes de enviarla. | R17: Registro de la información contable. | S17: Profesional Universitario Contabilidad y Presupuesto | T17: 46022 | U17: Se presentó la información exogena del Municipio de Manizales y de la Dirección de Impuestos y Aduanas Nacionales (DIAN), en los términos establecidos en los calendarios tributarios. | V17: Se encuentran en las plataformas del Municipio y de la DIAN los reportes de información exogena.
A18: GESTIÓN FINANCIERA | C18: Incumplimiento del reporte de la informacion a entes de control (Contaduria General, y contralorias ) | D18: Inexactitud en la fecha del reporte de la información, | E18: Alto | J18: Cumplimiento | L18: Sanciones, disciplinarias y administrativas | M18: BAJA | N18: BAJO | O18: Alto | P18: Reducir el Riesgo | Q18: Tener un cronograma con fechas de presentación de información. | R18: Pantallazo de la plataforma | S18: Lider Unidad Financiera y Administrativa | T18: 46022 | U18: Se presenta la información de acuerdo con las resoluciones expedidas por los diferentes entes de control (Contralorías, Contaduría General de la Nación). | V18: Se pueden verificar los cargues de información con oportunidad en la página de la Contraloría General de la República.
A19: GESTION FINANCIERA | C19: Posibilidad de omitir la verificacion de requisitos para el pago a proveedores y contratistas. | D19: Falta de verificación de los requisitos para realizar los pagos. | J19: Cumplimiento | K19: La falta de la Certificación bancaria del beneficiario y/o contratista. | L19: El pago errado a un beneficiario diferente o rechazo por parte de la entidad bancaria. | M19: BAJA | N19: BAJO | O19: Moderado | P19: Reducir el Riesgo | Q19: Verificar los soportes, los saldos en bancos y las cuentas bancarias tanto del girador como del beneficiario. | R19: Lacertificación de la Cuenta del Benfeciario y el soporte de la Transacción. | S19: Tecnico Administrativo de Tesoreria | T19: 46022 | U19: Se revisan los documentos soporte de cobro, verificando el cumplimiento de requisitos establecidos para proceder con el pago (Causación contable, seguridad social, firma de documentos, entre otros). | V19: Las cuentas que se han cancelado a la fecha, están soportadas con los documentos exigidos.
A20: GESTION HUMANA | C20: Incumplimiento del Plan de Capacitación | D20: Posibilidad de que no se lleven a cabo las actividades de formacion programadas para los funcionarios de la entidad. La ejecución del Plan de capacitación se encuentra sujeto al cumplimiento por parte de esta administración. | E20: X | J20: Operativo | K20: Falta de seguimiento al cumplimiento del plan Anual de Capacitacion. Ausencia de la autonomía para la ejcución de los recursos de capacitación. | L20: Disminución de la productividad y el desempeño de los funcionarios. Brechas de conocimiento y habilidades en la entidad. Incumplimiento de normativas o regulaciones que exigen ciertas capacitaciones. Reducción de la competitividad y dificultades en la adaptación a cambios del mercado. Impacto negativo en la satisfacción y motivación del personal. | O20: Alto | P20: Compartir el riesgo | Q20: Seguimiento trimestral al cumplimiento del Plan de capacitación por parte de la Alcaldía | R20: Entrega oficial de la Resolución del Plan mediante oficio Envio de Correos electrónicos y oficios solicitando capacitaciones. certificados de asistencia a las capacitaciones | S20: Profesional Universitario Gestión Humana / Alcaldía de Manizales | T20: 45777 | U20: Efectividad: Númer de capacitaciones programadas/N° total de capacitaciones efectuadas * 100 | W20: SE MODIFICO
A21: GESTION HUMANA | C21: Demoras o dilaciones en la contratación del Plan de Bienestar | D21: El Plan de Bienestar Laboral se encuentra sujeto a la demora en el trámite de los requsitos exigidos para la contratación | E21: X | F21: X | J21: Operativo | K21: Se declara desierto el proceso de contratación | L21: Insatisfacción por parte de los funcionarios Incumplimiento legal | O21: Extremo | P21: Reducir el Riesgo | Q21: Seguimiento del proceso de contratación externa en comité de Gerencia | R21: Actas del comité de Gerencia con informes de avance y/o contrato suscrito y legalizado con el prestador | S21: Profesional Universitario Gestión | T21: 45777 | U21: Efectividad: Número de actividades programadas/N° total de actividades efectuadas * 100
A22: GESTION HUMANA | C22: Desestimación de la evaluación del desempeño e incumplimiento con los | D22: Falta de cumplimiento o seguimiento del proceso de evaluación del desempeño, lo que puede generar falta de retroalimentación, desmotivación en los empleados y ausencia de información clave para la toma de decisiones sobre promociones, capacitaciones y desarrollo organizacional. | E22: X | G22: X | J22: Cumplimiento | K22: Desconocimiento de la norma Desconocimiento de la aplicabilidad de la evaluación del desempeño. Falta de compromisos de los lideres y del personal acargo. . | L22: Falencias en la concertación de compromisos Evaluaciones inoperantes Dificultad en la toma de desiciones para ascenso e incentivos de los funcionarios. Posibles conflictos laborales por falta de reconocimiento del desempeño | O22: Moderado | P22: Compartir el riesgo | Q22: Divulgación de la información ( normatividad vigente, fechas de ejecucion, parametos de la evaluacion) Determinación de plazos EDL Aplicativo EDL-APP | R22: Evaluaciones o calificaciones. Soperte de la información enviada. | S22: Profesional Universitario Gestión Humana / Gerencia / Líderes de programa y proyecto / jefes inmediatos funcionarios de carrera | T22: 45777 | U22: (Nùmero total de funcionarios a evaluar Nùmero de evaluaciones ejecutadas​)×100
A23: GESTION HUMANA | C23: Pago incorrecto de la seguridad social de los funcionarios. | D23: Las inconsistencias en el software de prestaciones sociales que afecta la eficiencia del mismo | E23: X | J23: Cumplimiento | K23: Inconsistencias en la parametrización del Software en el pago de seguridad social | L23: Pago incorrecto de la seguridad social de los funcionarios. | O23: Alto | P23: Compartir el riesgo | Q23: Revisión quincenal de la proyección de la nómina para hacer reporte e inventario de errores presentados en cada uno | R23: Correos al proveedor con informe mensual de errores y gestión de los mismos | S23: Profesional Universitario Gestión Humana / Auxiliar Administrativo Nómina | T23: 45777
A24: GESTION HUMANA | C24: Errores en la liquidación de nomina | D24: Posibilidad de cometer errores en el calculo de las prestaciones, descuentos y pago de nomina. | J24: Cumplimiento | K24: Inconsistencias en la parametrización del Software Errores en el procesamiento de dato. Desactualizacion en normativas laborales | L24: Mayores o menores valores pagados a funcionarios Riesgo de sanciones legales y multas por incumplimiento Incremento de reclamos y demandas laborales. | O24: Alto | P24: Compartir el riesgo | Q24: Revisión quincenal de la proyección de la nómina para hacer reporte e inventario de errores presentados en cada uno | R24: Correos al proveedor con informe mensual de errores y gestión de los mismos | S24: Profesional Universitario Gestión Humana / Auxiliar Administrativo Nómina/ Financiera | T24: 45777
A25: GESTION HUMANA | B25: SST | C25: Incumplimiento en la entrega de EPP | D25: Stock insuficiente para dar cumplimiento a los tiempos de entregas y requerimientos | E25: X | J25: Operativo | K25: Deficiencias en la planeación | L25: Parálisis en los procesos 2. Incumplimiento en la entrega de elemenstos 3. Demandas y demás acciones jurídicas 4.Investigaciones disciplinarias 5, accidentes laborales | O25: Alto | P25: Reducir el Riesgo | Q25: Revisión cuatrimestral de inventarios y stock existente Gestión de disponibilidad en almacén de los EPP 30 días antes de la fecha calendario límite | R25: Funcionarios con elementos de Protección Personal completo | S25: Técnico Administrativo SGSST | T25: 45777 | U25: Eficacia: N° de elementos entregados/ N° elementos requeridos; Efectividad: N° de accidentes por no tener EPP/ N° de Accidentes laborles
A26: GESTION HUMANA | B26: SST | C26: Uso inadecuado de los EPP | D26: No observancia de las especificaciones en la utilización de los elementos de proteccion personal y contra caidas | E26: X | J26: Operativo | K26: Escaso compromiso por parte de los funcionarios para el uso adecuado y necsario de los EPP | L26: Accidentes | O26: Moderado | P26: Compartir el riesgo | Q26: *Capacitacion *verificación en campo | R26: *Informe de verificaciones | S26: Técnico Administrativo SGSST | T26: 45777 | U26: Efectividad: Número de accidentes laborales / numero accidentes por no uso de epp
A27: GESTIÓN JURÍDICA | C27: Imprecisión Jurídica frente al tramite judicial | D27: Insuficiente capacitación del personal al momento de ejercer la defensa judicial de la entidad. | E27: X | F27: X | J27: Cumplimiento | K27: Elaboracion de politicas inadecuadas para ejercer la defensa juridica de la entidad | L27: Fallos en contra de la entidad | O27: Alto | P27: Compartir el riesgo | Q27: Implementar politicas de defensa judicial y prevención del daño antijurídicoa. Hacer seguimiento a las capacitaciones que realice las personas pertenecientes al area | R27: MANUAL POLITICAS DE PREVENCION DE DAÑO ANTIJURIDICO, CERTIFICACIONES DE LOS SEMINARIOS DE ACTUALIZACION | S27: Líder de Programa - Unidad Jurídica | V27: Para el periodo comprendido en el segundo cuatrimestre del presente año no se materializó el riesgo, pues no existe condena alguna en contra de la entidad, derivada de razones atribuibles al ejercicio de defensa. Unicamente se presenta un fallo adverso, en acción de tutela, en el que se requiere dar respuesta a un peticionario.
A28: GESTIÓN JURÍDICA | C28: Imprecisión Jurídica frente al tramite de jurisdiccion coactivo | D28: Debilidades en la iniciacion del proceso de cobro coactivo y persuasivo dentro de la entidad | E28: X | H28: X | J28: Cumplimiento | K28: Carencia de controles al momento de iniciar el procedimiento de cartera dentro de la entidad | L28: Falta de recaudo y de gestión adecuada de la cartera. Insuficiencia en los recursos correspondientes a la facultad de | O28: Alto | P28: Reducir el Riesgo | Q28: DAR APLICACIÓN AL MANUAL DE CARTERA DE LA ENTIDAD | R28: PROCESOS DE COBRO COACTIVO | S28: Líder de Programa - Unidad Jurídica | V28: Para el periodo comprendido en el segundo cuatrimestre del presente año no se materializó el riesgo, toda vez que el volumen de procesos de cobro coactivo gestionados y el recaudo efectivo de cartera ha aumentado considerablemente en relación con años anteriores
A29: GESTIÓN JURÍDICA | C29: perdida de los procesos judiciales y pago de las costas y condenas | D29: Debilidades en los procesos de defensa judicial que conlleven a perdida de los procesos e inaplicación de las politicas de defensa judicial que reduzca la presentación de demandas en contra de la entidad. | E29: X | J29: Financiero | K29: Inaplicación de politicas de prevención de daño antijurídico, debilidades en el desarrollo de los procesos administrativos que conlleven a que se incoen demandas en contra de la entidad. | L29: investigaciones y acusaciones penales por mala defensa judiciala de la entidad. | O29: Alto | P29: Reducir el Riesgo | Q29: TRABAJO Y COORDINACION ENTRE LAS UNIDADES PARA SOPORTAR EL PAGO DE LAS CONDENAS | R29: EXPEDIENTE DEL PROCESO SISTEMAS DE INFORMACIÓN JUDICIAL (INFOJUDICIAL - RAMA JUDICIAL) | S29: Líder de Programa - Unidad Jurídica | V29: En el segundo cuatrimestre de la presente vigencia, se han venido adelantando las gestiones de Defensa Jurídica y Prevención de Daño Antijurídico con el fin de menguar el riesgo de condenas a la entidad.
A30: GESTIÓN JURÍDICA | C30: imprecision respecto de la informacion suministrada por el sistema para la actualizacion de procesos de jurisdiccion coactiva | D30: Falta de informacion o que la misma se encuentra desactualizada ya que no es recopilada oportunamente por la entidad o no se registra en debida forma en la plataforma dispuesta para tales efectos. | E30: X | J30: Estrategico | K30: Falta de manejo de bases de datos, bases de datos desactualizadas, insuficiencia en la información que se registra en el sistema de la entidad. | L30: Improductividad en los procesos por mal manejo de la informacion, gereando insuficiencia de insumos para impulsar procesos de jurisdicción coactiva | O30: Alto | P30: Reducir el Riesgo | Q30: SOLICITUD DE BASES DE DATOS ACTUALIZADAS A LOS ENTES ENCARGADOS DE LA RECOPILACION Y ALMACENAMIENTO DE LAS MISMAS. | R30: EXPEDIENTE FISICO - BASE DE DATOS DE PROCESOS COACTIVOS | S30: Líder de Programa - Unidad Jurídica | V30: No se ha materializado el riesgo pues, se vienen realizando las gestiones de registro, actualización, y fidelidad de la información en la plataforma, además de que se han realizado ajustes en la plataforma.
A31: VALORIZACION | B31: INFRAESTRUCTURA | C31: Diseños o Estudios Inexactos e Incompletos | D31: Posibilidad de que los diseños o estudios sean inexactos o incompletos | E31: X | J31: Operativo | K31: Diseños inexactos o incompletos No se tiene la información cartográfica actualizada. Selección inapropiada del contratista. Cambio de la zona de estudio. Inexactitud de la ubicación de la infraestructura de otras empresas de servicios públicos Vencimiento de la vigencia de los estudios. | L31: Mayor tiempo en el proceso de valorización Obras adicionales en la construcción Mayores costos Desfinanciación del proyecto | O31: Extremo | P31: Reducir el Riesgo | Q31: Reuniones de seguimiento con los consultores Incluir en los contratos de obra y de interventoría un rubro para revisión de diseños | R31: Actas y contratos | S31: Líder Programa Unidad Técnica
A32: VALORIZACION | B32: INFRAESTRUCTURA | C32: Presupuesto errado | D32: Posibilidad de que los presupuestos del proyecto esten subvalorados | E32: X | F32: X | J32: Operativo | K32: Omisión de variables para la elaboración del presupuesto o falta de revisión de los presupuestos. Ausencia de las proyecciones de los costos para el tiempo real de ejecución. Imprecisión en los diseños y métodos constructivos | L32: Mayores costos Desfinanciación del proyecto | O32: Alto | P32: Reducir el Riesgo | Q32: Revisión o interventoría de diseños Revisión de los presupuestos Actualización de precios unitarios Proyección de costos | R32: Actas de reunión con consultores Ajustes presupuestos del proyecto Actas Junta de Propietarios | S32: Líder Programa Unidad Técnica
A33: VALORIZACION | B33: INFRAESTRUCTURA | C33: Inexactitud en el valor de gravamen de los Predios | D33: Posibilidad de realizar una distribución errada | E33: X | J33: Operativo | K33: Base catastral desactualizada Características de los predios desactualizadas Factores de distribución mal calculados o inadecuados Beneficio erróneo Estudios inexactos o incompletos | L33: Corrección de Gravámenes Des financiación de la obra o no ejecución de la obra. Deterioro de la Imagen | O33: Extremo | P33: Reducir el Riesgo | Q33: Revisión catastral Revisión de factores Revisión de cambios normativos Supervisión de estudios | R33: Resoluciones modificadoras | S33: Líder Programa Unidad Técnica
A34: VALORIZACION | B34: INFRAESTRUCTURA | C34: Demora o suspensión de la obra | D34: Posibilidad de retraso o suspensión en la terminación de la obra | E34: X | J34: Operativo | K34: Imprecisión en los diseños Redes de servicio públicos que obstaculizan las obras Factores climáticos Daños en las redes de servicios públicos Obras adicionales Retraso en pagos de actas Escasez de materiales o de Mano de Obra | L34: No ejecución del Proyecto Mayores costos Problemas sociales (manifestaciones de la comunidad) Deterioro de la imagen | O34: Alto | P34: Compartir el riesgo | Q34: Ajuste a diseños Comité de obra semanal Interventoría rigurosa | R34: Actas de comité | S34: Profesional Universitario Atención al Cliente / Profesional Universitario Compra y Suministros / Profecional Universitario Sistemas / Líder Programa Unidad Tecnica
A35: VALORIZACION | B35: INFRAESTRUCTURA | C35: Sobrecosto en la ejecución de las obras | D35: Posibilidad de que la obra tenga un mayor costo al presupuestado | E35: X | J35: Operativo | K35: Diseños imprecisos Obras no previstas Obras adicionales Contingencias naturales Mayores cantidades ejecutadas | L35: Mayores costos y mayores tiempo de ejecución Desfinanciación del proyecto | O35: Alto | P35: Reducir el Riesgo | Q35: Ajuste de diseños Seguimiento y controles Justificación de obras adicionales | R35: Actas de comité Actas de avance de obra | S35: Profesional Universitario Gestión Humana / Líder Programa Unidad Jurídica / Gerencia
A36: VALORIZACION | B36: INFRAESTRUCTURA | C36: Daños a bienes de terceros Obra perdida | D36: Posibilidad de que se presenten afectaciones a la obra construida o a bienes de terceros | E36: X | J36: Operativo | K36: Métodos constructivos Deslizamientos | L36: Mayores costos y mayores tiempo de ejecución Desfinanciación del proyecto | O36: Extremo | P36: Compartir el riesgo | Q36: Interventoría de obra Comité de obra | R36: Póliza Todo Riesgo Construcción | S36: Comité de Contratación / Líder Programa Unidad Jurídica / Gerencia
A37: GESTIÓN DE TECNOLOGÍAS DE LA INFORMACIÓN | B37: Sistemas de Información | C37: Fallas en el funcionamiento de Sistemas de Información | D37: Interrupción total o parcial de los sistemas de información que afectan la operación de la organización. | E37: X | I37: Fallas de software, errores de configuración, corrupción de datos | J37: Seguridad Digital | K37: Ausencia o insuficiencia de pruebas de software Ausencia de acuerdos de niveles del servicio, o insuficiencia en los mismos. Uso de versiones desactualizadas, mala gestión de cambios, falta de pruebas de continuidad. | L37: Pérdida de disponibilidad de sistemas críticos, retrasos operacionales, impacto en la productividad. | M37: Posible | N37: Moderado | O37: Medio | P37: Asumir el riesgo, Reducir el riesgo | Q37: Seguridad en los procesos de desarrollo y soporte: - Pruebas de aceptación de cambios realizados en el software - Contrato de Soporte, Mantenimiento y Capacitación de Sistemas de Información - Separación de los ambientes de desarrollo, prueba y operación Gestión de la prestación de servicios de proveedores: - Acuerdos de Nivel de Servicio (ANS) - Pólizas de Incumplimiento Contratos - Seguimiento y revisión de los servicios de los proveedores | R37: Actas de mesas de trabajo, Informes de Supervisión | S37: Profesional Universitario Sistemas / Técnico Administrativo Sistemas/ Proveedores Sistemas Información | U37: Indicadores de Cumplimiento (Eficacia): - Número de incidentes por fallas de software detectados y gestionados. Indicadores de Impacto (Efectividad): - % de incidentes de indisponibilidad resueltos dentro del SLA (Número de incidentes de indisponibilidad resueltos dentro del SLA / Número de incidentes de indisponibilidad) * 100 | V37: Indicadores de Cumplimiento (Eficacia): 25 Indicadores de Impacto (Efectividad): 92%
A38: GESTIÓN DE TECNOLOGÍAS DE LA INFORMACIÓN | B38: Portal Tributario de Valorización / Página Web Entidad | C38: Denegación del Servicio | D38: Ataques dirigidos a sobrecargar servidores o redes, afectando la disponibilidad de servicios. | E38: X | I38: Ataques de denegación de servicio (DDoS), saturación de recursos. | J38: Seguridad Digital | K38: Falta de protección anti-DDoS, infraestructura sin redundancia, capacidad limitada de respuesta. | L38: Interrupción de servicios en línea, caída de plataformas digitales, afectación a clientes y usuarios. | M38: Probable | N38: Moderado | O38: Alto | P38: Reducir, evitar, compartir el riesgo | Q38: Gestión de vulnerabilidad técnica: - Realizar revisiones de Vulnerabilidad - Efectuar la aplicación de parches, pluggins; éstos se deben probar y evaluar antes de su instalación para asegurarse de que son eficaces y no producen efectos secundarios que no se puedan tolerar | R38: Informe de Vulnerabilidades, Actualización pluggins | S38: Profesional Universitario Sistemas / Técnico Administrativo Sistemas/ Profesional Universitario Comunicaciones Proveedor Software / Proveedor Hosting | U38: Indicadores de Cumplimiento (Eficacia): - Número de intentos de ataques DoS/DDoS detectados y bloqueados por los sistemas de seguridad. Indicadores de Impacto (Efectividad): - % de incidentes de denegación de servicio resueltos dentro del SLA establecido (Número de incidentes de denegación deñ servicio resueltos dentro del SLA / Número de incidentes de denegación del servicio) * 100 | V38: Indicadores de Cumplimiento (Eficacia): 0 Indicadores de Impacto (Efectividad): 100%
A39: GESTIÓN DE TECNOLOGÍAS DE LA INFORMACIÓN | B39: Servidor / Equipos de Cómputo | C39: Pérdida de información por cibercrimen | D39: Exposición, robo o destrucción de datos sensibles por ataques informáticos | E39: X | I39: Cibercrimen Virus Informático, Ransomware, phishing | J39: Seguridad Digital | K39: Descarga y uso no controlados de software, Ausencia de copias de respaldo, Falta de cifrado, accesos privilegiados no controlados, usuarios sin capacitación en seguridad. | L39: Pérdida de confidencialidad, daño reputacional, sanciones legales y económicas | M39: Improbable | N39: Mayor | O39: Alto | P39: Reducir, evitar, compartir el riesgo | Q39: Gestión de seguridad de las redes, Protección en equipos para prevenir perdida, daño, robo y la interrupción de la operación: - Controles de Redes (Firewall, Antivirus) - Separación en las Redes, Establecer la segmentación con base en el nivel de criticidad de los activos. - Establecer la tecnología aplicada a la seguridad de servicios de red, tales como autenticación, encriptación y controles de conexión de red Protección contra código malicioso: - Protección por medio de Antivirus - Preparar planes de continuidad del negocio apropiados, para la recuperación de ataques de software malicioso, incluidos todos los datos necesarios, copias de respaldo del software y disposiciones para recuperación - Implementar controles para evitar o detectar el uso de software no autorizado (listas blancas de aplicaciones) - Implementar controles para evitar o detectar el uso de sitios web malicioso o que se sospecha que lo son (listas negras) - Restricciones para instalación de software Respaldo de la Información: - Implementar servicio de copias de seguridad automáticas en la nube e internas - Realizar pruebas de restauración de copias | R39: Revisión Logs Firewall, Informes Antivirus, Segmentación redes Copias de Seguridad | S39: Profesional Universitario Sistemas / Técnico Administrativo Sistemas/ Proveedores Servicios Externos | U39: Indicadores de Cumplimiento (Eficacia): - Número de intentos de acceso no autorizado detectados y bloqueados. Indicadores de Impacto (Efectividad): - % de empleados capacitados en prevención de ingeniería social y phishing (Número de empleados capacitados / Número de empleados) * 100 | V39: Indicadores de Cumplimiento (Eficacia): 0 Indicadores de Impacto (Efectividad): 100%
A40: GESTIÓN DE TECNOLOGÍAS DE LA INFORMACIÓN | B40: Hardware | C40: Ineficiencia en Infraestructura Tecnológica de Hardware | D40: Uso de equipos obsoletos o mal gestionados que afectan la operatividad de la entidad. | E40: X | I40: Mal funcionamiento del equipo, Fallas en servidores, incompatibilidad con software, sobrecarga de equipos | J40: Tecnológico | K40: Falta de mantenimiento, ausencia de planes de renovación tecnológica. | L40: Reducción del desempeño operativo, incremento en costos de soporte, fallas recurrentes en TI. | M40: Probable | N40: Moderado | O40: Alto | P40: Reducir, evitar, compartir el riesgo | Q40: Protección en equipos para prevenir perdida, daño, robo y la interrupción de la operación: - Ubicación y protección de los equipos. Proveer los mecanismos requeridos para proveer las condiciones de temperatura, humedad relativa, aislamiento, suministro de energía y control de acceso. - Mantenimiento Preventivo y Correctivo Hardware - Gestión de capacidad - Implementación de la continuidad de la seguridad de la información - Disponibilidad de instalaciones de procesamiento de información - Actualización de infraestructura tecnológica | R40: Mantenimiento Equipos, Compras Tecnológicas | S40: Profesional Universitario Sistemas / Técnico Administrativo Sistemas/ Proveedores Externos | U40: Indicadores de Cumplimiento (Eficacia): - % de equipos con mantenimiento preventivo realizado dentro del tiempo programado (Número de equipos con mantenimiento preventivo realizado a tiempo) / Número total de equipos programados para mantenimiento preventivo) * 100 Indicadores de Impacto (Efectividad): - Reducción en la cantidad de incidentes reportados por fallos de hardware/software ((Incidentes período anterior - Incidentes período actual) / Incidentes periodo anterior) * 100 | V40: Indicadores de Cumplimiento (Eficacia): 100% Indicadores de Impacto (Efectividad): 32% | W40: =(25-17)/25 -> 0.32
A41: GESTIÓN DE TECNOLOGÍAS DE LA INFORMACIÓN | B41: Data Center / Hardware | C41: Perdida de información por desastres naturales | D41: Daño o pérdida de datos e infraestructura debido a eventos naturales extremos | E41: X | I41: Terremotos, inundaciones, incendios, tormentas eléctricas | J41: Tecnológico | K41: Falta de respaldos fuera de sitio, ausencia de plan de continuidad del negocio | L41: Pérdida permanente de información, indisponibilidad prolongada de sistemas | M41: Rara vez | N41: Moderado | O41: Bajo | P41: Asumir el riesgo | Q41: Protección en equipos para prevenir perdida, daño, robo y la interrupción de la operación: - Pólizas de Seguro de los Activos - Trabajo en áreas seguras - Verificación, revisión y evaluación de la continuidad de la seguridad de la información. Actualizar el plan de continuidad de negocio y recuperación de desastres - Disponibilidad de instalaciones de procesamiento de información | R41: Plan de Continuidad y Recuperación | S41: Área TI Gestión Financiera Grupo Directivo | U41: Indicadores de Cumplimiento (Eficacia): - % de respaldos de información realizados correctamente según el plan (Número de respaldos exitosos realizados según el plan / Número total de respaldos programados en el plan) * 100 Indicadores de Impacto (Efectividad): - Tiempo promedio de recuperación tras un evento de desastre Hora en que los servicios estan operativos y disponibles - Hora en que ocurre el desastre | V41: Indicadores de Cumplimiento (Eficacia): 100% Indicadores de Impacto (Efectividad): NA No se han presentado desastres durante el período evaluado
...

Sheet Hoja1
A1: PROCESO | B1: TIPO | C1: RIESGO RESIDUAL | D1: TRATAMIENTO | E1: RESPONSABLE | F1: FECHA DE TERMINACION
A2: ALUMBRADO PUBLICO | B2: Cumplimiento | D2: Aceptar el Riesgo
A3: GESTIÓN DE LA COMUNIDAD | B3: Estrategico | D3: Compartir el Riesgo
A4: GESTIÓN DE LA INFRAESTRUCTURA | B4: Financiero | D4: Evitar el Riesgo
A5: GESTIÓN FINANCIERA | B5: Imagen/Reputación | D5: Reducir el Riesgo
A6: GESTION HUMANA | B6: Tecnológico | D6: Prevenir el Riesgo
A7: GESTIÓN JURÍDICA | B7: Seguridad Digital
A8: VALORIZACION | B8: Operativo
A9: GESTIÓN DE TECNOLOGÍAS DE LA INFORMACIÓN
